BEGIN:VCALENDAR
VERSION:2.0
PRODID:-//Tuusulan Helluntaiseurakunta - ECPv6.8.3//NONSGML v1.0//EN
CALSCALE:GREGORIAN
METHOD:PUBLISH
X-ORIGINAL-URL:https://www.tuusulanhelluntaisrk.net
X-WR-CALDESC:Tapahtumat Tuusulan Helluntaiseurakunta
REFRESH-INTERVAL;VALUE=DURATION:PT1H
X-Robots-Tag:noindex
X-PUBLISHED-TTL:PT1H
BEGIN:VTIMEZONE
TZID:UTC
BEGIN:STANDARD
TZOFFSETFROM:+0000
TZOFFSETTO:+0000
TZNAME:UTC
DTSTART:20240101T000000
END:STANDARD
END:VTIMEZONE
BEGIN:VEVENT
DTSTART;TZID=UTC:20240221T180000
DTEND;TZID=UTC:20240221T193000
DTSTAMP:20260422T221633
CREATED:20240203T194625Z
LAST-MODIFIED:20240203T195335Z
UID:4551-1708538400-1708543800@www.tuusulanhelluntaisrk.net
SUMMARY:Sanan ja rukouksen ilta
DESCRIPTION:Ajankohtaista asiaa suoraan Jumalan sydämeltä sinulle. Jumalan Sanaa\, rukousta ja Jumalan kohtaamista Jumalan Pyhän Hengen voimassa. \nJuonto: Marko Honkanen
URL:https://www.tuusulanhelluntaisrk.net/event/sanan-ja-rukouksen-ilta-163/
LOCATION:Tuusulan Helluntaiseurakunta – Tuusula Pentecostal Church\, Koskenmäentie 5\, Tuusula\, 04300\, Suomi
ATTACH;FMTTYPE=image/jpeg:https://www.tuusulanhelluntaisrk.net/wp-content/uploads/2017/08/pic-2-1.jpg
END:VEVENT
BEGIN:VEVENT
DTSTART;TZID=UTC:20240223T080000
DTEND;TZID=UTC:20240223T170000
DTSTAMP:20260422T221633
CREATED:20240203T195238Z
LAST-MODIFIED:20240203T195339Z
UID:4557-1708675200-1708707600@www.tuusulanhelluntaisrk.net
SUMMARY:Naistenilta
DESCRIPTION:Sinulle\, joka kaipaat levähdyshetkeä elämän arjen keskellä. \nKohtaamista\, jakamista\, yhdessäoloa ja rukousta Jumalan Sanan äärellä.
URL:https://www.tuusulanhelluntaisrk.net/event/naistenilta-11/
LOCATION:Tuusulan Helluntaiseurakunta – Tuusula Pentecostal Church\, Koskenmäentie 5\, Tuusula\, 04300\, Suomi
ATTACH;FMTTYPE=image/jpeg:https://www.tuusulanhelluntaisrk.net/wp-content/uploads/2022/03/Naisten_ryhma-scaled.jpg
END:VEVENT
BEGIN:VEVENT
DTSTART;TZID=UTC:20240225T150000
DTEND;TZID=UTC:20240225T170000
DTSTAMP:20260422T221633
CREATED:20240203T194747Z
LAST-MODIFIED:20240224T163347Z
UID:4553-1708873200-1708880400@www.tuusulanhelluntaisrk.net
SUMMARY:Jumalanpalvelus
DESCRIPTION:Koko seurakunnan yhteinen viikoittainen hetki Jumalan Sanan äärellä. Rukouspalvelu. \nJuonto: Tarmo Vieri \nSaarna: Marko Honkanen
URL:https://www.tuusulanhelluntaisrk.net/event/jumalanpalvelus-105/
LOCATION:Tuusulan Helluntaiseurakunta – Tuusula Pentecostal Church\, Koskenmäentie 5\, Tuusula\, 04300\, Suomi
ATTACH;FMTTYPE=image/jpeg:https://www.tuusulanhelluntaisrk.net/wp-content/uploads/2017/08/pic-7-1.jpg
END:VEVENT
BEGIN:VEVENT
DTSTART;TZID=UTC:20240228T180000
DTEND;TZID=UTC:20240228T193000
DTSTAMP:20260422T221633
CREATED:20240203T194929Z
LAST-MODIFIED:20240224T163354Z
UID:4555-1709143200-1709148600@www.tuusulanhelluntaisrk.net
SUMMARY:Sanan ja rukouksen ilta
DESCRIPTION:Ajankohtaista asiaa suoraan Jumalan sydämeltä sinulle. Jumalan Sanaa\, rukousta ja Jumalan kohtaamista Jumalan Pyhän Hengen voimassa. \nJuonto: Marko Honkanen
URL:https://www.tuusulanhelluntaisrk.net/event/sanan-ja-rukouksen-ilta-164/
LOCATION:Tuusulan Helluntaiseurakunta – Tuusula Pentecostal Church\, Koskenmäentie 5\, Tuusula\, 04300\, Suomi
ATTACH;FMTTYPE=image/jpeg:https://www.tuusulanhelluntaisrk.net/wp-content/uploads/2017/08/pic-2-1.jpg
END:VEVENT
BEGIN:VEVENT
DTSTART;TZID=UTC:20240303T150000
DTEND;TZID=UTC:20240303T170000
DTSTAMP:20260422T221633
CREATED:20240224T162455Z
LAST-MODIFIED:20240224T163401Z
UID:4560-1709478000-1709485200@www.tuusulanhelluntaisrk.net
SUMMARY:Ehtoollisjumalanpalvelus
DESCRIPTION:Koko seurakunnan yhteinen viikoittainen hetki Jumalan Sanan äärellä. Rukouspalvelu. Herran pöytä. \nJuonto: Tarmo Vieri \nSaarna: Marko Honkanen
URL:https://www.tuusulanhelluntaisrk.net/event/ehtoollisjumalanpalvelus-37/
LOCATION:Tuusulan Helluntaiseurakunta – Tuusula Pentecostal Church\, Koskenmäentie 5\, Tuusula\, 04300\, Suomi
ATTACH;FMTTYPE=image/jpeg:https://www.tuusulanhelluntaisrk.net/wp-content/uploads/2017/08/pic-7-1.jpg
END:VEVENT
BEGIN:VEVENT
DTSTART;TZID=UTC:20240305T180000
DTEND;TZID=UTC:20240305T193000
DTSTAMP:20260422T221633
CREATED:20240224T162646Z
LAST-MODIFIED:20240224T163409Z
UID:4562-1709661600-1709667000@www.tuusulanhelluntaisrk.net
SUMMARY:Miestenpiiri
DESCRIPTION:Kohtaamispaikka kaikenikäisille miehille. Yhdessäoloa ja keskustelua miesten ajankohtaisista asioista rukoillen ja Jumalan Sanaa tutkien.
URL:https://www.tuusulanhelluntaisrk.net/event/miestenpiiri-35/
LOCATION:Tuusulan Helluntaiseurakunta – Tuusula Pentecostal Church\, Koskenmäentie 5\, Tuusula\, 04300\, Suomi
ATTACH;FMTTYPE=image/jpeg:https://www.tuusulanhelluntaisrk.net/wp-content/uploads/2021/10/Mens-Group-scaled.jpg
END:VEVENT
BEGIN:VEVENT
DTSTART;TZID=UTC:20240306T180000
DTEND;TZID=UTC:20240306T193000
DTSTAMP:20260422T221633
CREATED:20240224T162853Z
LAST-MODIFIED:20240306T120358Z
UID:4564-1709748000-1709753400@www.tuusulanhelluntaisrk.net
SUMMARY:Sanan ja rukouksen ilta
DESCRIPTION:Ajankohtaista asiaa suoraan Jumalan sydämeltä sinulle. Jumalan Sanaa\, rukousta ja Jumalan kohtaamista Jumalan Pyhän Hengen voimassa.
URL:https://www.tuusulanhelluntaisrk.net/event/sanan-ja-rukouksen-ilta-165/
LOCATION:Tuusulan Helluntaiseurakunta – Tuusula Pentecostal Church\, Koskenmäentie 5\, Tuusula\, 04300\, Suomi
ATTACH;FMTTYPE=image/jpeg:https://www.tuusulanhelluntaisrk.net/wp-content/uploads/2017/08/pic-2-1.jpg
END:VEVENT
BEGIN:VEVENT
DTSTART;TZID=UTC:20240310T150000
DTEND;TZID=UTC:20240310T170000
DTSTAMP:20260422T221633
CREATED:20240224T163325Z
LAST-MODIFIED:20240306T120401Z
UID:4568-1710082800-1710090000@www.tuusulanhelluntaisrk.net
SUMMARY:Jumalanpalvelus
DESCRIPTION:Koko seurakunnan yhteinen viikoittainen hetki Jumalan Sanan äärellä. Rukouspalvelu. \nJuonto: Tarmo Vieri \nSaarna: Marko Honkanen
URL:https://www.tuusulanhelluntaisrk.net/event/jumalanpalvelus-106/
LOCATION:Tuusulan Helluntaiseurakunta – Tuusula Pentecostal Church\, Koskenmäentie 5\, Tuusula\, 04300\, Suomi
ATTACH;FMTTYPE=image/jpeg:https://www.tuusulanhelluntaisrk.net/wp-content/uploads/2017/08/pic-7-1.jpg
END:VEVENT
BEGIN:VEVENT
DTSTART;TZID=UTC:20240313T180000
DTEND;TZID=UTC:20240313T193000
DTSTAMP:20260422T221633
CREATED:20240224T163120Z
LAST-MODIFIED:20240306T120404Z
UID:4566-1710352800-1710358200@www.tuusulanhelluntaisrk.net
SUMMARY:Sanan ja rukouksen ilta
DESCRIPTION:Ajankohtaista asiaa suoraan Jumalan sydämeltä sinulle. Jumalan Sanaa\, rukousta ja Jumalan kohtaamista Jumalan Pyhän Hengen voimassa. \nJuonto: Marko Honkanen
URL:https://www.tuusulanhelluntaisrk.net/event/sanan-ja-rukouksen-ilta-166/
LOCATION:Tuusulan Helluntaiseurakunta – Tuusula Pentecostal Church\, Koskenmäentie 5\, Tuusula\, 04300\, Suomi
ATTACH;FMTTYPE=image/jpeg:https://www.tuusulanhelluntaisrk.net/wp-content/uploads/2017/08/pic-2-1.jpg
END:VEVENT
BEGIN:VEVENT
DTSTART;TZID=UTC:20240317T150000
DTEND;TZID=UTC:20240317T170000
DTSTAMP:20260422T221633
CREATED:20240306T113720Z
LAST-MODIFIED:20240306T120411Z
UID:4572-1710687600-1710694800@www.tuusulanhelluntaisrk.net
SUMMARY:Jumalanpalvelus
DESCRIPTION:Koko seurakunnan yhteinen viikoittainen hetki Jumalan Sanan äärellä. Rukouspalvelu. \nTilaisuuden yhteydessä Aki ja Marjaana Miettisen lähtöjuhla. \nJuonto: Marko Honkanen \nSaarna: Aki Miettinen
URL:https://www.tuusulanhelluntaisrk.net/event/jumalanpalvelus-107/
LOCATION:Tuusulan Helluntaiseurakunta – Tuusula Pentecostal Church\, Koskenmäentie 5\, Tuusula\, 04300\, Suomi
ATTACH;FMTTYPE=image/jpeg:https://www.tuusulanhelluntaisrk.net/wp-content/uploads/2017/08/pic-7.jpg
END:VEVENT
BEGIN:VEVENT
DTSTART;TZID=UTC:20240319T180000
DTEND;TZID=UTC:20240319T193000
DTSTAMP:20260422T221633
CREATED:20240306T114002Z
LAST-MODIFIED:20240306T120415Z
UID:4574-1710871200-1710876600@www.tuusulanhelluntaisrk.net
SUMMARY:Miestenpiiri
DESCRIPTION:Kohtaamispaikka kaikenikäisille miehille. Yhdessäoloa ja keskustelua miesten ajankohtaisista asioista rukoillen ja Jumalan Sanaa tutkien.
URL:https://www.tuusulanhelluntaisrk.net/event/miestenpiiri-36/
LOCATION:Tuusulan Helluntaiseurakunta – Tuusula Pentecostal Church\, Koskenmäentie 5\, Tuusula\, 04300\, Suomi
ATTACH;FMTTYPE=image/jpeg:https://www.tuusulanhelluntaisrk.net/wp-content/uploads/2021/10/Mens-Group-scaled.jpg
END:VEVENT
BEGIN:VEVENT
DTSTART;TZID=UTC:20240320T180000
DTEND;TZID=UTC:20240320T193000
DTSTAMP:20260422T221633
CREATED:20240306T114129Z
LAST-MODIFIED:20240306T120418Z
UID:4576-1710957600-1710963000@www.tuusulanhelluntaisrk.net
SUMMARY:Sanan ja rukouksen ilta
DESCRIPTION:Ajankohtaista asiaa suoraan Jumalan sydämeltä sinulle. Jumalan Sanaa\, rukousta ja Jumalan kohtaamista Jumalan Pyhän Hengen voimassa.
URL:https://www.tuusulanhelluntaisrk.net/event/sanan-ja-rukouksen-ilta-167/
LOCATION:Tuusulan Helluntaiseurakunta – Tuusula Pentecostal Church\, Koskenmäentie 5\, Tuusula\, 04300\, Suomi
ATTACH;FMTTYPE=image/jpeg:https://www.tuusulanhelluntaisrk.net/wp-content/uploads/2017/08/pic-2-1.jpg
END:VEVENT
BEGIN:VEVENT
DTSTART;TZID=UTC:20240322T180000
DTEND;TZID=UTC:20240322T193000
DTSTAMP:20260422T221633
CREATED:20240306T114426Z
LAST-MODIFIED:20240306T120422Z
UID:4579-1711130400-1711135800@www.tuusulanhelluntaisrk.net
SUMMARY:Naistenilta
DESCRIPTION:Sinulle\, joka kaipaat levähdyshetkeä elämän arjen keskellä. \nKohtaamista\, jakamista\, yhdessäoloa ja rukousta Jumalan Sanan äärellä.
URL:https://www.tuusulanhelluntaisrk.net/event/naistenilta-12/
LOCATION:Tuusulan Helluntaiseurakunta – Tuusula Pentecostal Church\, Koskenmäentie 5\, Tuusula\, 04300\, Suomi
ATTACH;FMTTYPE=image/jpeg:https://www.tuusulanhelluntaisrk.net/wp-content/uploads/2022/03/Naisten_ryhma-scaled.jpg
END:VEVENT
BEGIN:VEVENT
DTSTART;TZID=UTC:20240324T150000
DTEND;TZID=UTC:20240324T170000
DTSTAMP:20260422T221633
CREATED:20240306T115230Z
LAST-MODIFIED:20240306T120425Z
UID:4581-1711292400-1711299600@www.tuusulanhelluntaisrk.net
SUMMARY:Palmusunnuntain jumalanpalvelus
DESCRIPTION:”Sanokaa tytär Siionille: ’Katso\, sinun kuninkaasi tulee sinulle hiljaisena ja ratsastaen aasilla\, ikeenalaisen aasin varsalla.” Mat. 21:5 \nKoko seurakunnan yhteinen viikoittainen hetki Jumalan Sanan äärellä. Rukouspalvelu. Tilaisuuden yhteydessä syntyneen lapsen siunausjuhla. \nJuonto: Tarmo Vieri \nSaarna: Marko Honkanen
URL:https://www.tuusulanhelluntaisrk.net/event/palmusunnuntain-jumalanpalvelus-3/
LOCATION:Tuusulan Helluntaiseurakunta – Tuusula Pentecostal Church\, Koskenmäentie 5\, Tuusula\, 04300\, Suomi
ATTACH;FMTTYPE=image/png:https://www.tuusulanhelluntaisrk.net/wp-content/uploads/2023/03/Paasiainen_palmusunnuntai.png
END:VEVENT
BEGIN:VEVENT
DTSTART;TZID=UTC:20240327T180000
DTEND;TZID=UTC:20240327T193000
DTSTAMP:20260422T221633
CREATED:20240306T115405Z
LAST-MODIFIED:20240306T120430Z
UID:4583-1711562400-1711567800@www.tuusulanhelluntaisrk.net
SUMMARY:Sanan ja rukouksen ilta
DESCRIPTION:Ajankohtaista asiaa suoraan Jumalan sydämeltä sinulle. Jumalan Sanaa\, rukousta ja Jumalan kohtaamista Jumalan Pyhän Hengen voimassa.
URL:https://www.tuusulanhelluntaisrk.net/event/sanan-ja-rukouksen-ilta-168/
LOCATION:Tuusulan Helluntaiseurakunta – Tuusula Pentecostal Church\, Koskenmäentie 5\, Tuusula\, 04300\, Suomi
ATTACH;FMTTYPE=image/jpeg:https://www.tuusulanhelluntaisrk.net/wp-content/uploads/2017/08/pic-2-1.jpg
END:VEVENT
BEGIN:VEVENT
DTSTART;TZID=UTC:20240328T180000
DTEND;TZID=UTC:20240328T193000
DTSTAMP:20260422T221633
CREATED:20240306T115534Z
LAST-MODIFIED:20240306T120433Z
UID:4585-1711648800-1711654200@www.tuusulanhelluntaisrk.net
SUMMARY:Kiirastorstain jumalanpalvelus
DESCRIPTION:”Me vaelsimme kaikki eksyksissä niin kuin lampaat\, kukin meistä poikkesi omalle tielleen. Mutta Herra heitti hänen päällensä kaikkien meidän syntivelkamme”. \nKoko seurakunnan yhteinen hetki Jumalan Sanan ja evankeliumin sanoman äärellä. Käymme läpi pääsiäisen tapahtumat palmusunnuntaista Herran Jeesuksen Kristuksen ylösnousemukseen asti. Herran pöytä. \nJuonto ja puhe: Marko Honkanen
URL:https://www.tuusulanhelluntaisrk.net/event/kiirastorstain-jumalanpalvelus-4/
LOCATION:Tuusulan Helluntaiseurakunta – Tuusula Pentecostal Church\, Koskenmäentie 5\, Tuusula\, 04300\, Suomi
ATTACH;FMTTYPE=image/png:https://www.tuusulanhelluntaisrk.net/wp-content/uploads/2023/03/Paasiainen_kiirastorstai.png
END:VEVENT
BEGIN:VEVENT
DTSTART;TZID=UTC:20240331T150000
DTEND;TZID=UTC:20240331T170000
DTSTAMP:20260422T221633
CREATED:20240306T115738Z
LAST-MODIFIED:20240306T120437Z
UID:4587-1711897200-1711904400@www.tuusulanhelluntaisrk.net
SUMMARY:Pääsiäisen juhlajumalanpalvelus
DESCRIPTION:Herra Jeesus Kristus on ylösnoussut ja elää!  ”Siinä ilmestyi meille Jumalan rakkaus\, että Jumala lähetti ainokaisen Poikansa maailmaan\, että me eläisimme hänen kauttansa. Siinä on rakkaus – ei siinä\, että me rakastimme Jumalaa\, vaan siinä\, että hän rakasti meitä ja lähetti Poikansa meidän syntiemme sovitukseksi.” 1 Joh 4:9-10 \nKoko seurakunnan yhteinen hetki Jumalan Sanan äärellä. Rukouspalvelu. Herran pöytä. \nJuonto: Marko Honkanen \nSaarna: Matti Koivusaari
URL:https://www.tuusulanhelluntaisrk.net/event/paasiaisen-juhlajumalanpalvelus-2/
LOCATION:Tuusulan Helluntaiseurakunta – Tuusula Pentecostal Church\, Koskenmäentie 5\, Tuusula\, 04300\, Suomi
ATTACH;FMTTYPE=image/png:https://www.tuusulanhelluntaisrk.net/wp-content/uploads/2023/03/Paasiainen_ylosnousemus.png
END:VEVENT
BEGIN:VEVENT
DTSTART;TZID=UTC:20240402T180000
DTEND;TZID=UTC:20240402T193000
DTSTAMP:20260422T221633
CREATED:20240306T120214Z
LAST-MODIFIED:20240306T120446Z
UID:4593-1712080800-1712086200@www.tuusulanhelluntaisrk.net
SUMMARY:Miestenpiiri
DESCRIPTION:Kohtaamispaikka kaikenikäisille miehille. Yhdessäoloa ja keskustelua miesten ajankohtaisista asioista rukoillen ja Jumalan Sanaa tutkien.
URL:https://www.tuusulanhelluntaisrk.net/event/miestenpiiri-37/
LOCATION:Tuusulan Helluntaiseurakunta – Tuusula Pentecostal Church\, Koskenmäentie 5\, Tuusula\, 04300\, Suomi
ATTACH;FMTTYPE=image/jpeg:https://www.tuusulanhelluntaisrk.net/wp-content/uploads/2021/10/Mens-Group-scaled.jpg
END:VEVENT
BEGIN:VEVENT
DTSTART;TZID=UTC:20240403T180000
DTEND;TZID=UTC:20240403T193000
DTSTAMP:20260422T221633
CREATED:20240306T115922Z
LAST-MODIFIED:20240306T120449Z
UID:4589-1712167200-1712172600@www.tuusulanhelluntaisrk.net
SUMMARY:Sanan ja rukouksen ilta
DESCRIPTION:Ajankohtaista asiaa suoraan Jumalan sydämeltä sinulle. Jumalan Sanaa\, rukousta ja Jumalan kohtaamista Jumalan Pyhän Hengen voimassa.
URL:https://www.tuusulanhelluntaisrk.net/event/sanan-ja-rukouksen-ilta-169/
LOCATION:Tuusulan Helluntaiseurakunta – Tuusula Pentecostal Church\, Koskenmäentie 5\, Tuusula\, 04300\, Suomi
ATTACH;FMTTYPE=image/jpeg:https://www.tuusulanhelluntaisrk.net/wp-content/uploads/2017/08/pic-2-1.jpg
END:VEVENT
BEGIN:VEVENT
DTSTART;TZID=UTC:20240407T150000
DTEND;TZID=UTC:20240407T170000
DTSTAMP:20260422T221633
CREATED:20240306T120100Z
LAST-MODIFIED:20240407T102655Z
UID:4591-1712502000-1712509200@www.tuusulanhelluntaisrk.net
SUMMARY:Ehtoollisjumalanpalvelus
DESCRIPTION:Koko seurakunnan yhteinen viikoittainen hetki Jumalan Sanan äärellä. Rukouspalvelu. Herran pöytä. \nJuonto: Tarmo Vieri \nSaarna: Marko Honkanen
URL:https://www.tuusulanhelluntaisrk.net/event/ehtoollisjumalanpalvelus-38/
LOCATION:Tuusulan Helluntaiseurakunta – Tuusula Pentecostal Church\, Koskenmäentie 5\, Tuusula\, 04300\, Suomi
ATTACH;FMTTYPE=image/jpeg:https://www.tuusulanhelluntaisrk.net/wp-content/uploads/2017/08/pic-7.jpg
END:VEVENT
BEGIN:VEVENT
DTSTART;TZID=UTC:20240410T180000
DTEND;TZID=UTC:20240410T193000
DTSTAMP:20260422T221633
CREATED:20240306T120339Z
LAST-MODIFIED:20240407T102659Z
UID:4595-1712772000-1712777400@www.tuusulanhelluntaisrk.net
SUMMARY:Sanan ja rukouksen ilta
DESCRIPTION:Ajankohtaista asiaa suoraan Jumalan sydämeltä sinulle. Jumalan Sanaa\, rukousta ja Jumalan kohtaamista Jumalan Pyhän Hengen voimassa.
URL:https://www.tuusulanhelluntaisrk.net/event/sanan-ja-rukouksen-ilta-170/
LOCATION:Tuusulan Helluntaiseurakunta – Tuusula Pentecostal Church\, Koskenmäentie 5\, Tuusula\, 04300\, Suomi
ATTACH;FMTTYPE=image/jpeg:https://www.tuusulanhelluntaisrk.net/wp-content/uploads/2017/08/pic-2-1.jpg
END:VEVENT
BEGIN:VEVENT
DTSTART;TZID=UTC:20240414T150000
DTEND;TZID=UTC:20240414T170000
DTSTAMP:20260422T221633
CREATED:20240407T101951Z
LAST-MODIFIED:20240407T102702Z
UID:4598-1713106800-1713114000@www.tuusulanhelluntaisrk.net
SUMMARY:Jumalanpalvelus
DESCRIPTION:Koko seurakunnan yhteinen viikoittainen hetki Jumalan Sanan äärellä. Rukouspalvelu. \nJuonto: Tarmo Vieri \nSaarna: Marko Honkanen
URL:https://www.tuusulanhelluntaisrk.net/event/jumalanpalvelus-108/
LOCATION:Tuusulan Helluntaiseurakunta – Tuusula Pentecostal Church\, Koskenmäentie 5\, Tuusula\, 04300\, Suomi
ATTACH;FMTTYPE=image/jpeg:https://www.tuusulanhelluntaisrk.net/wp-content/uploads/2017/08/pic-7.jpg
END:VEVENT
BEGIN:VEVENT
DTSTART;TZID=UTC:20240416T180000
DTEND;TZID=UTC:20240416T193000
DTSTAMP:20260422T221633
CREATED:20240407T102234Z
LAST-MODIFIED:20240407T102706Z
UID:4602-1713290400-1713295800@www.tuusulanhelluntaisrk.net
SUMMARY:Miestenpiiri
DESCRIPTION:Kohtaamispaikka kaikenikäisille miehille. Yhdessäoloa ja keskustelua miesten ajankohtaisista asioista rukoillen ja Jumalan Sanaa tutkien.
URL:https://www.tuusulanhelluntaisrk.net/event/miestenpiiri-38/
LOCATION:Tuusulan Helluntaiseurakunta – Tuusula Pentecostal Church\, Koskenmäentie 5\, Tuusula\, 04300\, Suomi
ATTACH;FMTTYPE=image/jpeg:https://www.tuusulanhelluntaisrk.net/wp-content/uploads/2021/10/Mens-Group-scaled.jpg
END:VEVENT
BEGIN:VEVENT
DTSTART;TZID=UTC:20240417T180000
DTEND;TZID=UTC:20240417T193000
DTSTAMP:20260422T221633
CREATED:20240407T102337Z
LAST-MODIFIED:20240417T100236Z
UID:4604-1713376800-1713382200@www.tuusulanhelluntaisrk.net
SUMMARY:Sanan ja rukouksen ilta
DESCRIPTION:Ajankohtaista asiaa suoraan Jumalan sydämeltä sinulle. Jumalan Sanaa\, rukousta ja Jumalan kohtaamista Jumalan Pyhän Hengen voimassa.
URL:https://www.tuusulanhelluntaisrk.net/event/sanan-ja-rukouksen-ilta-171/
ATTACH;FMTTYPE=image/jpeg:https://www.tuusulanhelluntaisrk.net/wp-content/uploads/2017/08/pic-2-1.jpg
END:VEVENT
BEGIN:VEVENT
DTSTART;TZID=UTC:20240419T180000
DTEND;TZID=UTC:20240419T200000
DTSTAMP:20260422T221633
CREATED:20240407T102634Z
LAST-MODIFIED:20240419T071102Z
UID:4608-1713549600-1713556800@www.tuusulanhelluntaisrk.net
SUMMARY:Naistenilta
DESCRIPTION:Sinulle\, joka kaipaat levähdyshetkeä elämän arjen keskellä. \nKohtaamista\, jakamista\, yhdessäoloa ja rukousta Jumalan Sanan äärellä.
URL:https://www.tuusulanhelluntaisrk.net/event/naistenilta-13/
LOCATION:Tuusulan Helluntaiseurakunta – Tuusula Pentecostal Church\, Koskenmäentie 5\, Tuusula\, 04300\, Suomi
ATTACH;FMTTYPE=image/jpeg:https://www.tuusulanhelluntaisrk.net/wp-content/uploads/2022/03/Naisten_ryhma-scaled.jpg
END:VEVENT
BEGIN:VEVENT
DTSTART;TZID=UTC:20240421T150000
DTEND;TZID=UTC:20240421T170000
DTSTAMP:20260422T221633
CREATED:20240407T102122Z
LAST-MODIFIED:20240419T071106Z
UID:4600-1713711600-1713718800@www.tuusulanhelluntaisrk.net
SUMMARY:Lähetysjumalanpalvelus
DESCRIPTION:Koko seurakunnan yhteinen viikoittainen hetki Jumalan Sanan äärellä. Rukouspalvelu. \nPyhäkoulu 3-10 vuotiaille jumalanpalveluksen yhteydessä. Alle 3-vuotiaat voivat osallistua vanhempiensa kanssa. \nJuonto: Marko Honkanen \nSaarna: Elizabeth Pajunen
URL:https://www.tuusulanhelluntaisrk.net/event/jumalanpalvelus-109/
LOCATION:Tuusulan Helluntaiseurakunta – Tuusula Pentecostal Church\, Koskenmäentie 5\, Tuusula\, 04300\, Suomi
ATTACH;FMTTYPE=image/jpeg:https://www.tuusulanhelluntaisrk.net/wp-content/uploads/2017/08/pic-7.jpg
END:VEVENT
BEGIN:VEVENT
DTSTART;TZID=UTC:20240424T180000
DTEND;TZID=UTC:20240424T193000
DTSTAMP:20260422T221633
CREATED:20240407T102450Z
LAST-MODIFIED:20240419T071109Z
UID:4606-1713981600-1713987000@www.tuusulanhelluntaisrk.net
SUMMARY:Sanan ja rukouksen ilta - René Laulajainen
DESCRIPTION:Ajankohtaista asiaa suoraan Jumalan sydämeltä sinulle. Jumalan Sanaa\, rukousta ja Jumalan kohtaamista Jumalan Pyhän Hengen voimassa. \nPuhe ja Musiikki René Laulajainen.
URL:https://www.tuusulanhelluntaisrk.net/event/sanan-ja-rukouksen-ilta-172/
LOCATION:Tuusulan Helluntaiseurakunta – Tuusula Pentecostal Church\, Koskenmäentie 5\, Tuusula\, 04300\, Suomi
ATTACH;FMTTYPE=image/png:https://www.tuusulanhelluntaisrk.net/wp-content/uploads/2024/04/Rene_24042024.png
END:VEVENT
BEGIN:VEVENT
DTSTART;TZID=UTC:20240428T150000
DTEND;TZID=UTC:20240428T170000
DTSTAMP:20260422T221633
CREATED:20240417T095033Z
LAST-MODIFIED:20240419T071112Z
UID:4616-1714316400-1714323600@www.tuusulanhelluntaisrk.net
SUMMARY:Jumalanpalvelus
DESCRIPTION:Koko seurakunnan yhteinen viikoittainen hetki Jumalan Sanan äärellä. Rukouspalvelu. \nPyhäkoulu 3-10 vuotiaille jumalanpalveluksen yhteydessä. Alle 3-vuotiaat voivat osallistua vanhempiensa kanssa. \nJuonto: Tarmo Vieri \nSaarna: Marko Honkanen
URL:https://www.tuusulanhelluntaisrk.net/event/jumalanpalvelus-110/
LOCATION:Tuusulan Helluntaiseurakunta – Tuusula Pentecostal Church\, Koskenmäentie 5\, Tuusula\, 04300\, Suomi
ATTACH;FMTTYPE=image/jpeg:https://www.tuusulanhelluntaisrk.net/wp-content/uploads/2017/08/pic-7-1.jpg
END:VEVENT
BEGIN:VEVENT
DTSTART;TZID=UTC:20240430T180000
DTEND;TZID=UTC:20240430T193000
DTSTAMP:20260422T221633
CREATED:20240417T095346Z
LAST-MODIFIED:20240419T071117Z
UID:4620-1714500000-1714505400@www.tuusulanhelluntaisrk.net
SUMMARY:Miestenpiiri
DESCRIPTION:Kohtaamispaikka kaikenikäisille miehille. Yhdessäoloa ja keskustelua miesten ajankohtaisista asioista rukoillen ja Jumalan Sanaa tutkien.
URL:https://www.tuusulanhelluntaisrk.net/event/miestenpiiri-39/
LOCATION:Tuusulan Helluntaiseurakunta – Tuusula Pentecostal Church\, Koskenmäentie 5\, Tuusula\, 04300\, Suomi
ATTACH;FMTTYPE=image/jpeg:https://www.tuusulanhelluntaisrk.net/wp-content/uploads/2021/10/Mens-Group-scaled.jpg
END:VEVENT
BEGIN:VEVENT
DTSTART;TZID=UTC:20240501T180000
DTEND;TZID=UTC:20240501T193000
DTSTAMP:20260422T221633
CREATED:20240417T095212Z
LAST-MODIFIED:20240419T071121Z
UID:4618-1714586400-1714591800@www.tuusulanhelluntaisrk.net
SUMMARY:Sanan ja rukouksen ilta
DESCRIPTION:Ajankohtaista asiaa suoraan Jumalan sydämeltä sinulle. Jumalan Sanaa\, rukousta ja Jumalan kohtaamista Jumalan Pyhän Hengen voimassa.
URL:https://www.tuusulanhelluntaisrk.net/event/sanan-ja-rukouksen-ilta-173/
LOCATION:Tuusulan Helluntaiseurakunta – Tuusula Pentecostal Church\, Koskenmäentie 5\, Tuusula\, 04300\, Suomi
ATTACH;FMTTYPE=image/jpeg:https://www.tuusulanhelluntaisrk.net/wp-content/uploads/2017/08/pic-2-1.jpg
END:VEVENT
END:VCALENDAR