BEGIN:VCALENDAR
VERSION:2.0
PRODID:-//Tuusulan Helluntaiseurakunta - ECPv6.8.3//NONSGML v1.0//EN
CALSCALE:GREGORIAN
METHOD:PUBLISH
X-WR-CALNAME:Tuusulan Helluntaiseurakunta
X-ORIGINAL-URL:https://www.tuusulanhelluntaisrk.net
X-WR-CALDESC:Tapahtumat Tuusulan Helluntaiseurakunta
REFRESH-INTERVAL;VALUE=DURATION:PT1H
X-Robots-Tag:noindex
X-PUBLISHED-TTL:PT1H
BEGIN:VTIMEZONE
TZID:UTC
BEGIN:STANDARD
TZOFFSETFROM:+0000
TZOFFSETTO:+0000
TZNAME:UTC
DTSTART:20240101T000000
END:STANDARD
END:VTIMEZONE
BEGIN:VEVENT
DTSTART;TZID=UTC:20240317T150000
DTEND;TZID=UTC:20240317T170000
DTSTAMP:20260422T112951
CREATED:20240306T113720Z
LAST-MODIFIED:20240306T120411Z
UID:4572-1710687600-1710694800@www.tuusulanhelluntaisrk.net
SUMMARY:Jumalanpalvelus
DESCRIPTION:Koko seurakunnan yhteinen viikoittainen hetki Jumalan Sanan äärellä. Rukouspalvelu. \nTilaisuuden yhteydessä Aki ja Marjaana Miettisen lähtöjuhla. \nJuonto: Marko Honkanen \nSaarna: Aki Miettinen
URL:https://www.tuusulanhelluntaisrk.net/event/jumalanpalvelus-107/
LOCATION:Tuusulan Helluntaiseurakunta – Tuusula Pentecostal Church\, Koskenmäentie 5\, Tuusula\, 04300\, Suomi
ATTACH;FMTTYPE=image/jpeg:https://www.tuusulanhelluntaisrk.net/wp-content/uploads/2017/08/pic-7.jpg
END:VEVENT
END:VCALENDAR